BEGIN:VCALENDAR
VERSION:2.0
PRODID:-//https://www.cfe42.com///NONSGML kigkonsult.se iCalcreator 2.10.15//
METHOD:PUBLISH
BEGIN:VEVENT
UID:20260422T232456CEST-4556s1Wbve@https://www.cfe42.com/
DTSTAMP:20260422T212456Z
DESCRIPTION:'Quand la personnalit&eacute\; du dirigeant et son entourage in
 fluencent la gestion des difficult&eacute\;s financi&egrave\;res : le r&oc
 irc\;le cl&eacute\; de la recherche de conseil.'\nLa pr&eacute\;sentation 
 sera effectu&eacute\;e par Rachid ACHBAH &ndash\; Ma&icirc\;tre de conf&ea
 cute\;rences &ndash\; Universit&eacute\; Lumi&egrave\;re Lyon 2.\nLa r&eac
 ute\;union d&eacute\;butera &agrave\; 19h15 max donc merci d'arriver &agra
 ve\; 18h45 environ au restaurant Le Tisseur des Saveurs &agrave\; Panissi&
 egrave\;res. \nEnsuite nous irons chez Corinne pour la d&eacute\;gustation
  de vins et nous reviendrons ensuite au restaurant &agrave\; 20h50.\n\n19h
 15 : D&eacute\;but de la r&eacute\;union\n20h00 : D&eacute\;gustation de V
 in chez The Atelier by Corinne\n20h50 : Repas chez 'Le Tisseur des Saveurs
 '\n\nLieu de l'intervention : Le Tisseur des Saveurs &agrave\; Panissi&egr
 ave\;res - Suivez le lien https://www.cfe42.com/evenement/113-prevention-e
 t-traitements-des-difficultes-role-de-l-entourage-et-personnalite-du-dirig
 eant.html
DTSTART:20250417T170000Z
DTEND:20250417T203000Z
LOCATION:Le Tisseur des Saveurs (15 Rue Jean Benoît Guerpillon\, 42360 Pani
 ssières\, France)
SUMMARY:Prévention et traitements des difficultés\, rôle de l’entourage et 
 personnalité du dirigeant
URL:https://www.cfe42.com/evenement/113-prevention-et-traitements-des-diffi
 cultes-role-de-l-entourage-et-personnalite-du-dirigeant.html
END:VEVENT
END:VCALENDAR
