BEGIN:VCALENDAR
VERSION:2.0
PRODID:-//https://www.cfe42.com///NONSGML kigkonsult.se iCalcreator 2.10.15//
METHOD:PUBLISH
BEGIN:VEVENT
UID:20260425T194651CEST-79899ljSov@https://www.cfe42.com/
DTSTAMP:20260425T174651Z
DESCRIPTION:Soir&eacute\;e sur la Loi de Finance\nSuite au d&eacute\;sistem
 ent de S&eacute\;bastien Michel\, c'est C&eacute\;cile Grillet qui nous fa
 it l'honneur de nous pr&eacute\;senter la Loi de Finance.\nRepas &agrave\;
  la Boule d'Or &agrave\; Feurs https://www.cfe42.com/evenement/106-la-loi-
 de-finance.html
DTSTART:20250320T180000Z
DTEND:20250320T213000Z
LOCATION:La Boule D'Or (42 Rue René Cassin\, 42110 Feurs\, France)
SUMMARY:La Loi de Finance
URL:https://www.cfe42.com/evenement/106-la-loi-de-finance.html
END:VEVENT
END:VCALENDAR
